BEGIN:VCALENDAR
VERSION:2.0
PRODID:-//Rural Hospital Network - ECPv6.13.2.1//NONSGML v1.0//EN
CALSCALE:GREGORIAN
METHOD:PUBLISH
X-WR-CALNAME:Rural Hospital Network
X-ORIGINAL-URL:https://ruralhospitalnetwork.org
X-WR-CALDESC:Events for Rural Hospital Network
REFRESH-INTERVAL;VALUE=DURATION:PT1H
X-Robots-Tag:noindex
X-PUBLISHED-TTL:PT1H
BEGIN:VTIMEZONE
TZID:Asia/Kolkata
BEGIN:STANDARD
TZOFFSETFROM:+0530
TZOFFSETTO:+0530
TZNAME:IST
DTSTART:20260101T000000
END:STANDARD
END:VTIMEZONE
BEGIN:VEVENT
DTSTART;TZID=Asia/Kolkata:20260515T080000
DTEND;TZID=Asia/Kolkata:20260517T170000
DTSTAMP:20260424T181103
CREATED:20260409T044351Z
LAST-MODIFIED:20260409T044351Z
UID:3642-1778832000-1779037200@ruralhospitalnetwork.org
SUMMARY:📍 RSP in Chhattisgarh is here!
DESCRIPTION:
URL:https://ruralhospitalnetwork.org/?tribe_events=%f0%9f%93%8d-rsp-in-chhattisgarh-is-here
LOCATION:Jan Swasthya Sahyog\, Ganiyari\, Chattisgarh\, Ganiyari Village & P.O. – 495112 Bilaspur District Chhattisgarh State\, India\, Bilaspur\, Chattisgarh\, 495112\, India
END:VEVENT
END:VCALENDAR